BEGIN:VCALENDAR
PRODID:-//eluceo/ical//2.0/EN
VERSION:2.0
CALSCALE:GREGORIAN
BEGIN:VEVENT
UID:5ea420de8b0fc17d9233bcb931ce23d5
DTSTAMP:20260425T195748Z
SUMMARY:Ďábel nosí Pradu 2
DTSTART;TZID=Europe/Prague:20260506T100000
DTEND;TZID=Europe/Prague:20260506T120000
LOCATION:Bio Central
END:VEVENT
END:VCALENDAR
BEGIN:VCALENDAR
PRODID:-//eluceo/ical//2.0/EN
VERSION:2.0
CALSCALE:GREGORIAN
BEGIN:VEVENT
UID:188397dfccf25e9e69ddf78d0c30e23a
DTSTAMP:20260425T195748Z
SUMMARY:Ďábel nosí Pradu 2
DTSTART;TZID=Europe/Prague:20260506T100000
DTEND;TZID=Europe/Prague:20260506T120000
LOCATION:Bio Central
END:VEVENT
END:VCALENDAR
