BEGIN:VCALENDAR
PRODID:-//eluceo/ical//2.0/EN
VERSION:2.0
CALSCALE:GREGORIAN
BEGIN:VEVENT
UID:5d3e941b38e1ea2d28c61d4d80be7a52
DTSTAMP:20260425T195840Z
SUMMARY:Ďábel nosí Pradu 2
DTSTART;TZID=Europe/Prague:20260502T150000
DTEND;TZID=Europe/Prague:20260502T170000
LOCATION:Kino Lucerna
END:VEVENT
END:VCALENDAR
BEGIN:VCALENDAR
PRODID:-//eluceo/ical//2.0/EN
VERSION:2.0
CALSCALE:GREGORIAN
BEGIN:VEVENT
UID:762415b4cb7c9431d20bd57f465c5fff
DTSTAMP:20260425T195840Z
SUMMARY:Ďábel nosí Pradu 2
DTSTART;TZID=Europe/Prague:20260502T150000
DTEND;TZID=Europe/Prague:20260502T170000
LOCATION:Kino Lucerna
END:VEVENT
END:VCALENDAR
