BEGIN:VCALENDAR
PRODID:-//eluceo/ical//2.0/EN
VERSION:2.0
CALSCALE:GREGORIAN
BEGIN:VEVENT
UID:f9ee7a2cfd96fa29a1d9e34691026159
DTSTAMP:20260425T200125Z
SUMMARY:Ďábel nosí Pradu 2
DTSTART;TZID=Europe/Prague:20260502T173000
DTEND;TZID=Europe/Prague:20260502T193000
LOCATION:Kino Lucerna
END:VEVENT
END:VCALENDAR
BEGIN:VCALENDAR
PRODID:-//eluceo/ical//2.0/EN
VERSION:2.0
CALSCALE:GREGORIAN
BEGIN:VEVENT
UID:7a63b55ba9aacb68a0389204f52ef976
DTSTAMP:20260425T200125Z
SUMMARY:Ďábel nosí Pradu 2
DTSTART;TZID=Europe/Prague:20260502T173000
DTEND;TZID=Europe/Prague:20260502T193000
LOCATION:Kino Lucerna
END:VEVENT
END:VCALENDAR
