BEGIN:VCALENDAR
PRODID:-//eluceo/ical//2.0/EN
VERSION:2.0
CALSCALE:GREGORIAN
BEGIN:VEVENT
UID:9c5c15647a5112dded207730f8c73e62
DTSTAMP:20260425T195925Z
SUMMARY:Ďábel nosí Pradu 2
DTSTART;TZID=Europe/Prague:20260503T150000
DTEND;TZID=Europe/Prague:20260503T170000
LOCATION:Kino Lucerna
END:VEVENT
END:VCALENDAR
BEGIN:VCALENDAR
PRODID:-//eluceo/ical//2.0/EN
VERSION:2.0
CALSCALE:GREGORIAN
BEGIN:VEVENT
UID:35e762d0284cc688fc93a940dcda2112
DTSTAMP:20260425T195925Z
SUMMARY:Ďábel nosí Pradu 2
DTSTART;TZID=Europe/Prague:20260503T150000
DTEND;TZID=Europe/Prague:20260503T170000
LOCATION:Kino Lucerna
END:VEVENT
END:VCALENDAR
