BEGIN:VCALENDAR
PRODID:-//eluceo/ical//2.0/EN
VERSION:2.0
CALSCALE:GREGORIAN
BEGIN:VEVENT
UID:5ba37b5be1fc394de7f1a6081f9a215c
DTSTAMP:20260425T195855Z
SUMMARY:Ďábel nosí Pradu 2
DTSTART;TZID=Europe/Prague:20260503T203000
DTEND;TZID=Europe/Prague:20260503T223000
LOCATION:Kino Lucerna
END:VEVENT
END:VCALENDAR
BEGIN:VCALENDAR
PRODID:-//eluceo/ical//2.0/EN
VERSION:2.0
CALSCALE:GREGORIAN
BEGIN:VEVENT
UID:ccc61be7962ac56fd6b5e5bfed09b256
DTSTAMP:20260425T195855Z
SUMMARY:Ďábel nosí Pradu 2
DTSTART;TZID=Europe/Prague:20260503T203000
DTEND;TZID=Europe/Prague:20260503T223000
LOCATION:Kino Lucerna
END:VEVENT
END:VCALENDAR
