BEGIN:VCALENDAR
PRODID:-//eluceo/ical//2.0/EN
VERSION:2.0
CALSCALE:GREGORIAN
BEGIN:VEVENT
UID:90855c976488e70534de7e6cdbdfe6c8
DTSTAMP:20260420T141554Z
SUMMARY:Billie Eilish - Hit Me Hard and Soft: The Tour
DTSTART;TZID=Europe/Prague:20260517T180000
DTEND;TZID=Europe/Prague:20260517T195400
LOCATION:Kino Lucerna
END:VEVENT
END:VCALENDAR
BEGIN:VCALENDAR
PRODID:-//eluceo/ical//2.0/EN
VERSION:2.0
CALSCALE:GREGORIAN
BEGIN:VEVENT
UID:70fab990bd05754c45489fdda9728a40
DTSTAMP:20260420T141554Z
SUMMARY:Billie Eilish - Hit Me Hard and Soft: The Tour
DTSTART;TZID=Europe/Prague:20260517T180000
DTEND;TZID=Europe/Prague:20260517T195400
LOCATION:Kino Lucerna
END:VEVENT
END:VCALENDAR
