BEGIN:VCALENDAR
PRODID:-//eluceo/ical//2.0/EN
VERSION:2.0
CALSCALE:GREGORIAN
BEGIN:VEVENT
UID:3382fbdfa1b30546101a6947d5b0f33d
DTSTAMP:20260425T200050Z
SUMMARY:Ďábel nosí Pradu 2
DTSTART;TZID=Europe/Prague:20260502T203000
DTEND;TZID=Europe/Prague:20260502T223000
LOCATION:Kino Přítomnost
END:VEVENT
END:VCALENDAR
BEGIN:VCALENDAR
PRODID:-//eluceo/ical//2.0/EN
VERSION:2.0
CALSCALE:GREGORIAN
BEGIN:VEVENT
UID:cd48711007adbda9d64b30cb9dd14655
DTSTAMP:20260425T200050Z
SUMMARY:Ďábel nosí Pradu 2
DTSTART;TZID=Europe/Prague:20260502T203000
DTEND;TZID=Europe/Prague:20260502T223000
LOCATION:Kino Přítomnost
END:VEVENT
END:VCALENDAR
