BEGIN:VCALENDAR
PRODID:-//eluceo/ical//2.0/EN
VERSION:2.0
CALSCALE:GREGORIAN
BEGIN:VEVENT
UID:e1993cf8f5d84052808e1277696e9741
DTSTAMP:20260425T200233Z
SUMMARY:Ďábel nosí Pradu 2
DTSTART;TZID=Europe/Prague:20260503T171500
DTEND;TZID=Europe/Prague:20260503T191500
LOCATION:Kino Přítomnost
END:VEVENT
END:VCALENDAR
BEGIN:VCALENDAR
PRODID:-//eluceo/ical//2.0/EN
VERSION:2.0
CALSCALE:GREGORIAN
BEGIN:VEVENT
UID:90c73f0c6c268e5062d883208df11eac
DTSTAMP:20260425T200233Z
SUMMARY:Ďábel nosí Pradu 2
DTSTART;TZID=Europe/Prague:20260503T171500
DTEND;TZID=Europe/Prague:20260503T191500
LOCATION:Kino Přítomnost
END:VEVENT
END:VCALENDAR
