BEGIN:VCALENDAR
PRODID:-//eluceo/ical//2.0/EN
VERSION:2.0
CALSCALE:GREGORIAN
BEGIN:VEVENT
UID:522d04b2d484b52ba681c8f4c98025ae
DTSTAMP:20260425T200031Z
SUMMARY:Ďábel nosí Pradu 2
DTSTART;TZID=Europe/Prague:20260508T171500
DTEND;TZID=Europe/Prague:20260508T191500
LOCATION:Univerzitní kino Scala
END:VEVENT
END:VCALENDAR
BEGIN:VCALENDAR
PRODID:-//eluceo/ical//2.0/EN
VERSION:2.0
CALSCALE:GREGORIAN
BEGIN:VEVENT
UID:f780cf8a5cbffa76142f6e0ce2f489d3
DTSTAMP:20260425T200031Z
SUMMARY:Ďábel nosí Pradu 2
DTSTART;TZID=Europe/Prague:20260508T171500
DTEND;TZID=Europe/Prague:20260508T191500
LOCATION:Univerzitní kino Scala
END:VEVENT
END:VCALENDAR
