BEGIN:VCALENDAR
PRODID:-//eluceo/ical//2.0/EN
VERSION:2.0
CALSCALE:GREGORIAN
BEGIN:VEVENT
UID:9d6eaef0aa4740c9c95bb401542c0234
DTSTAMP:20260425T195926Z
SUMMARY:Ďábel nosí Pradu 2
DTSTART;TZID=Europe/Prague:20260501T150000
DTEND;TZID=Europe/Prague:20260501T170000
LOCATION:Univerzitní kino Scala
END:VEVENT
END:VCALENDAR
BEGIN:VCALENDAR
PRODID:-//eluceo/ical//2.0/EN
VERSION:2.0
CALSCALE:GREGORIAN
BEGIN:VEVENT
UID:55947591f97a23187dba092cfab7b982
DTSTAMP:20260425T195926Z
SUMMARY:Ďábel nosí Pradu 2
DTSTART;TZID=Europe/Prague:20260501T150000
DTEND;TZID=Europe/Prague:20260501T170000
LOCATION:Univerzitní kino Scala
END:VEVENT
END:VCALENDAR
