BEGIN:VCALENDAR
PRODID:-//eluceo/ical//2.0/EN
VERSION:2.0
CALSCALE:GREGORIAN
BEGIN:VEVENT
UID:ebafd8095bc86fb27a4b146cad082fdd
DTSTAMP:20260425T195547Z
SUMMARY:Milost
DTSTART;TZID=Europe/Prague:20260501T150000
DTEND;TZID=Europe/Prague:20260501T171100
LOCATION:Kino Lucerna
END:VEVENT
END:VCALENDAR
BEGIN:VCALENDAR
PRODID:-//eluceo/ical//2.0/EN
VERSION:2.0
CALSCALE:GREGORIAN
BEGIN:VEVENT
UID:264296a9b45852cd7d3611517b825f45
DTSTAMP:20260425T195547Z
SUMMARY:Milost
DTSTART;TZID=Europe/Prague:20260501T150000
DTEND;TZID=Europe/Prague:20260501T171100
LOCATION:Kino Lucerna
END:VEVENT
END:VCALENDAR
