BEGIN:VCALENDAR
PRODID:-//eluceo/ical//2.0/EN
VERSION:2.0
CALSCALE:GREGORIAN
BEGIN:VEVENT
UID:51768d3eaf8a0f5a639ff1af9a3f605b
DTSTAMP:20260425T200334Z
SUMMARY:Ďábel nosí Pradu 2
DTSTART;TZID=Europe/Prague:20260501T153000
DTEND;TZID=Europe/Prague:20260501T173000
LOCATION:Kino Lucerna
END:VEVENT
END:VCALENDAR
BEGIN:VCALENDAR
PRODID:-//eluceo/ical//2.0/EN
VERSION:2.0
CALSCALE:GREGORIAN
BEGIN:VEVENT
UID:a16851939a62053d70fd0f9f782bbdd3
DTSTAMP:20260425T200334Z
SUMMARY:Ďábel nosí Pradu 2
DTSTART;TZID=Europe/Prague:20260501T153000
DTEND;TZID=Europe/Prague:20260501T173000
LOCATION:Kino Lucerna
END:VEVENT
END:VCALENDAR
