BEGIN:VCALENDAR
PRODID:-//eluceo/ical//2.0/EN
VERSION:2.0
CALSCALE:GREGORIAN
BEGIN:VEVENT
UID:7dc811a4427dace4b80cc0cab9ee05f9
DTSTAMP:20260425T200031Z
SUMMARY:Ďábel nosí Pradu 2
DTSTART;TZID=Europe/Prague:20260502T180000
DTEND;TZID=Europe/Prague:20260502T200000
LOCATION:Bio Central
END:VEVENT
END:VCALENDAR
BEGIN:VCALENDAR
PRODID:-//eluceo/ical//2.0/EN
VERSION:2.0
CALSCALE:GREGORIAN
BEGIN:VEVENT
UID:00440f38060528a6323d32b0b47e5f9d
DTSTAMP:20260425T200031Z
SUMMARY:Ďábel nosí Pradu 2
DTSTART;TZID=Europe/Prague:20260502T180000
DTEND;TZID=Europe/Prague:20260502T200000
LOCATION:Bio Central
END:VEVENT
END:VCALENDAR
