BEGIN:VCALENDAR
PRODID:-//eluceo/ical//2.0/EN
VERSION:2.0
CALSCALE:GREGORIAN
BEGIN:VEVENT
UID:56fcfabd82f088a18ff0ff8d022f9c44
DTSTAMP:20260425T200145Z
SUMMARY:Ďábel nosí Pradu 2
DTSTART;TZID=Europe/Prague:20260504T203000
DTEND;TZID=Europe/Prague:20260504T223000
LOCATION:Bio Central
END:VEVENT
END:VCALENDAR
BEGIN:VCALENDAR
PRODID:-//eluceo/ical//2.0/EN
VERSION:2.0
CALSCALE:GREGORIAN
BEGIN:VEVENT
UID:a3c680501d48a50a56fa7ddb01199203
DTSTAMP:20260425T200145Z
SUMMARY:Ďábel nosí Pradu 2
DTSTART;TZID=Europe/Prague:20260504T203000
DTEND;TZID=Europe/Prague:20260504T223000
LOCATION:Bio Central
END:VEVENT
END:VCALENDAR
