BEGIN:VCALENDAR
PRODID:-//eluceo/ical//2.0/EN
VERSION:2.0
CALSCALE:GREGORIAN
BEGIN:VEVENT
UID:66152cf8aafdf511a92d3cffaa18a6d3
DTSTAMP:20260425T200039Z
SUMMARY:Ďábel nosí Pradu 2
DTSTART;TZID=Europe/Prague:20260501T203000
DTEND;TZID=Europe/Prague:20260501T223000
LOCATION:Bio Central
END:VEVENT
END:VCALENDAR
BEGIN:VCALENDAR
PRODID:-//eluceo/ical//2.0/EN
VERSION:2.0
CALSCALE:GREGORIAN
BEGIN:VEVENT
UID:0ff9c8944f71b5a943d88d8ab1282181
DTSTAMP:20260425T200039Z
SUMMARY:Ďábel nosí Pradu 2
DTSTART;TZID=Europe/Prague:20260501T203000
DTEND;TZID=Europe/Prague:20260501T223000
LOCATION:Bio Central
END:VEVENT
END:VCALENDAR
