BEGIN:VCALENDAR
PRODID:-//eluceo/ical//2.0/EN
VERSION:2.0
CALSCALE:GREGORIAN
BEGIN:VEVENT
UID:0b276ccde424d26245db2fdf28d9b48e
DTSTAMP:20260425T200238Z
SUMMARY:Ďábel nosí Pradu 2
DTSTART;TZID=Europe/Prague:20260503T173000
DTEND;TZID=Europe/Prague:20260503T193000
LOCATION:Bio Central
END:VEVENT
END:VCALENDAR
BEGIN:VCALENDAR
PRODID:-//eluceo/ical//2.0/EN
VERSION:2.0
CALSCALE:GREGORIAN
BEGIN:VEVENT
UID:cbce76529a4053d1fe75cb24e076d576
DTSTAMP:20260425T200238Z
SUMMARY:Ďábel nosí Pradu 2
DTSTART;TZID=Europe/Prague:20260503T173000
DTEND;TZID=Europe/Prague:20260503T193000
LOCATION:Bio Central
END:VEVENT
END:VCALENDAR
