BEGIN:VCALENDAR
PRODID:-//eluceo/ical//2.0/EN
VERSION:2.0
CALSCALE:GREGORIAN
BEGIN:VEVENT
UID:4eaf5a689115e5e3173db625855012bf
DTSTAMP:20260425T200145Z
SUMMARY:Ďábel nosí Pradu 2
DTSTART;TZID=Europe/Prague:20260505T173000
DTEND;TZID=Europe/Prague:20260505T193000
LOCATION:Bio Central
END:VEVENT
END:VCALENDAR
BEGIN:VCALENDAR
PRODID:-//eluceo/ical//2.0/EN
VERSION:2.0
CALSCALE:GREGORIAN
BEGIN:VEVENT
UID:48f6d943bcc534022752e7d5f3ff9c65
DTSTAMP:20260425T200145Z
SUMMARY:Ďábel nosí Pradu 2
DTSTART;TZID=Europe/Prague:20260505T173000
DTEND;TZID=Europe/Prague:20260505T193000
LOCATION:Bio Central
END:VEVENT
END:VCALENDAR
