BEGIN:VCALENDAR
PRODID:-//eluceo/ical//2.0/EN
VERSION:2.0
CALSCALE:GREGORIAN
BEGIN:VEVENT
UID:a35cc46e1cc8018c37757c4111946cb9
DTSTAMP:20260425T200206Z
SUMMARY:Ďábel nosí Pradu 2
DTSTART;TZID=Europe/Prague:20260506T180000
DTEND;TZID=Europe/Prague:20260506T200000
LOCATION:Bio Central
END:VEVENT
END:VCALENDAR
BEGIN:VCALENDAR
PRODID:-//eluceo/ical//2.0/EN
VERSION:2.0
CALSCALE:GREGORIAN
BEGIN:VEVENT
UID:3ad45a4af64f7dcaeed560ca613ad040
DTSTAMP:20260425T200206Z
SUMMARY:Ďábel nosí Pradu 2
DTSTART;TZID=Europe/Prague:20260506T180000
DTEND;TZID=Europe/Prague:20260506T200000
LOCATION:Bio Central
END:VEVENT
END:VCALENDAR
