BEGIN:VCALENDAR
PRODID:-//eluceo/ical//2.0/EN
VERSION:2.0
CALSCALE:GREGORIAN
BEGIN:VEVENT
UID:d7e1e2134c15afe185a84b42344b083b
DTSTAMP:20260425T200237Z
SUMMARY:Ďábel nosí Pradu 2
DTSTART;TZID=Europe/Prague:20260503T121500
DTEND;TZID=Europe/Prague:20260503T141500
LOCATION:Bio Oko
END:VEVENT
END:VCALENDAR
BEGIN:VCALENDAR
PRODID:-//eluceo/ical//2.0/EN
VERSION:2.0
CALSCALE:GREGORIAN
BEGIN:VEVENT
UID:620c9831ef27553c6a08e306b4cf0c37
DTSTAMP:20260425T200237Z
SUMMARY:Ďábel nosí Pradu 2
DTSTART;TZID=Europe/Prague:20260503T121500
DTEND;TZID=Europe/Prague:20260503T141500
LOCATION:Bio Oko
END:VEVENT
END:VCALENDAR
