BEGIN:VCALENDAR
PRODID:-//eluceo/ical//2.0/EN
VERSION:2.0
CALSCALE:GREGORIAN
BEGIN:VEVENT
UID:83e4575f13a683b4bbface7e35f2ca04
DTSTAMP:20260425T231411Z
SUMMARY:Na skok do divočiny
DTSTART;TZID=Europe/Prague:20260503T144500
DTEND;TZID=Europe/Prague:20260503T163000
LOCATION:Bio Oko
END:VEVENT
END:VCALENDAR
BEGIN:VCALENDAR
PRODID:-//eluceo/ical//2.0/EN
VERSION:2.0
CALSCALE:GREGORIAN
BEGIN:VEVENT
UID:1f580be8f623842bd8b54f3ff8bc011a
DTSTAMP:20260425T231411Z
SUMMARY:Na skok do divočiny
DTSTART;TZID=Europe/Prague:20260503T144500
DTEND;TZID=Europe/Prague:20260503T163000
LOCATION:Bio Oko
END:VEVENT
END:VCALENDAR
