BEGIN:VCALENDAR
PRODID:-//eluceo/ical//2.0/EN
VERSION:2.0
CALSCALE:GREGORIAN
BEGIN:VEVENT
UID:b25f5087e4d10c24384e475bd0a0bf45
DTSTAMP:20260425T200126Z
SUMMARY:Otec Matka Sestra Bratr
DTSTART;TZID=Europe/Prague:20260430T174500
DTEND;TZID=Europe/Prague:20260430T193500
LOCATION:Kino Světozor
END:VEVENT
END:VCALENDAR
BEGIN:VCALENDAR
PRODID:-//eluceo/ical//2.0/EN
VERSION:2.0
CALSCALE:GREGORIAN
BEGIN:VEVENT
UID:192cd2bc5a05cba55996f0be17e3ec94
DTSTAMP:20260425T200126Z
SUMMARY:Otec Matka Sestra Bratr
DTSTART;TZID=Europe/Prague:20260430T174500
DTEND;TZID=Europe/Prague:20260430T193500
LOCATION:Kino Světozor
END:VEVENT
END:VCALENDAR
