BEGIN:VCALENDAR
PRODID:-//eluceo/ical//2.0/EN
VERSION:2.0
CALSCALE:GREGORIAN
BEGIN:VEVENT
UID:627959299aaae04b48d722a4c4c43863
DTSTAMP:20260425T200232Z
SUMMARY:Otec Matka Sestra Bratr
DTSTART;TZID=Europe/Prague:20260501T124500
DTEND;TZID=Europe/Prague:20260501T143500
LOCATION:Kino Světozor
END:VEVENT
END:VCALENDAR
BEGIN:VCALENDAR
PRODID:-//eluceo/ical//2.0/EN
VERSION:2.0
CALSCALE:GREGORIAN
BEGIN:VEVENT
UID:f3100bad08982bf4d2a62af5f6690212
DTSTAMP:20260425T200232Z
SUMMARY:Otec Matka Sestra Bratr
DTSTART;TZID=Europe/Prague:20260501T124500
DTEND;TZID=Europe/Prague:20260501T143500
LOCATION:Kino Světozor
END:VEVENT
END:VCALENDAR
