BEGIN:VCALENDAR
PRODID:-//eluceo/ical//2.0/EN
VERSION:2.0
CALSCALE:GREGORIAN
BEGIN:VEVENT
UID:ae6454c1ff751e9d5b584728bd2ed2e0
DTSTAMP:20260425T200031Z
SUMMARY:Otec Matka Sestra Bratr
DTSTART;TZID=Europe/Prague:20260502T121500
DTEND;TZID=Europe/Prague:20260502T140500
LOCATION:Kino Světozor
END:VEVENT
END:VCALENDAR
BEGIN:VCALENDAR
PRODID:-//eluceo/ical//2.0/EN
VERSION:2.0
CALSCALE:GREGORIAN
BEGIN:VEVENT
UID:b745fa3eea73bad06c866566226b1e19
DTSTAMP:20260425T200031Z
SUMMARY:Otec Matka Sestra Bratr
DTSTART;TZID=Europe/Prague:20260502T121500
DTEND;TZID=Europe/Prague:20260502T140500
LOCATION:Kino Světozor
END:VEVENT
END:VCALENDAR
