BEGIN:VCALENDAR
PRODID:-//eluceo/ical//2.0/EN
VERSION:2.0
CALSCALE:GREGORIAN
BEGIN:VEVENT
UID:1d2ea417daadef1efabed8abdf40366a
DTSTAMP:20260425T200335Z
SUMMARY:Otec Matka Sestra Bratr
DTSTART;TZID=Europe/Prague:20260503T143000
DTEND;TZID=Europe/Prague:20260503T162000
LOCATION:Kino Světozor
END:VEVENT
END:VCALENDAR
BEGIN:VCALENDAR
PRODID:-//eluceo/ical//2.0/EN
VERSION:2.0
CALSCALE:GREGORIAN
BEGIN:VEVENT
UID:111d640bc236058b58a24091f87f36d6
DTSTAMP:20260425T200335Z
SUMMARY:Otec Matka Sestra Bratr
DTSTART;TZID=Europe/Prague:20260503T143000
DTEND;TZID=Europe/Prague:20260503T162000
LOCATION:Kino Světozor
END:VEVENT
END:VCALENDAR
