BEGIN:VCALENDAR
PRODID:-//eluceo/ical//2.0/EN
VERSION:2.0
CALSCALE:GREGORIAN
BEGIN:VEVENT
UID:9a6e18f5ac1c187ad4c66bff15ff52cb
DTSTAMP:20260425T200206Z
SUMMARY:Otec Matka Sestra Bratr
DTSTART;TZID=Europe/Prague:20260505T151500
DTEND;TZID=Europe/Prague:20260505T170500
LOCATION:Kino Světozor
END:VEVENT
END:VCALENDAR
BEGIN:VCALENDAR
PRODID:-//eluceo/ical//2.0/EN
VERSION:2.0
CALSCALE:GREGORIAN
BEGIN:VEVENT
UID:b4c609ac13df798fbd2ba7b44992c5f4
DTSTAMP:20260425T200206Z
SUMMARY:Otec Matka Sestra Bratr
DTSTART;TZID=Europe/Prague:20260505T151500
DTEND;TZID=Europe/Prague:20260505T170500
LOCATION:Kino Světozor
END:VEVENT
END:VCALENDAR
