BEGIN:VCALENDAR
PRODID:-//eluceo/ical//2.0/EN
VERSION:2.0
CALSCALE:GREGORIAN
BEGIN:VEVENT
UID:c92a80c48225eb2634d55d96e9e18c68
DTSTAMP:20260425T195639Z
SUMMARY:Bouřlivé výšiny
DTSTART;TZID=Europe/Prague:20260503T201500
DTEND;TZID=Europe/Prague:20260503T223100
LOCATION:Kino Světozor
END:VEVENT
END:VCALENDAR
BEGIN:VCALENDAR
PRODID:-//eluceo/ical//2.0/EN
VERSION:2.0
CALSCALE:GREGORIAN
BEGIN:VEVENT
UID:9d94a8e548e10f444fe6a33b1e407bdd
DTSTAMP:20260425T195639Z
SUMMARY:Bouřlivé výšiny
DTSTART;TZID=Europe/Prague:20260503T201500
DTEND;TZID=Europe/Prague:20260503T223100
LOCATION:Kino Světozor
END:VEVENT
END:VCALENDAR
