BEGIN:VCALENDAR
PRODID:-//eluceo/ical//2.0/EN
VERSION:2.0
CALSCALE:GREGORIAN
BEGIN:VEVENT
UID:5cd69c66d1583db2513511590b03be22
DTSTAMP:20260425T200207Z
SUMMARY:Ďábel nosí Pradu 2
DTSTART;TZID=Europe/Prague:20260430T150000
DTEND;TZID=Europe/Prague:20260430T170000
LOCATION:Kino Světozor
END:VEVENT
END:VCALENDAR
BEGIN:VCALENDAR
PRODID:-//eluceo/ical//2.0/EN
VERSION:2.0
CALSCALE:GREGORIAN
BEGIN:VEVENT
UID:01c4dc575856832442cb2381fb0f641d
DTSTAMP:20260425T200207Z
SUMMARY:Ďábel nosí Pradu 2
DTSTART;TZID=Europe/Prague:20260430T150000
DTEND;TZID=Europe/Prague:20260430T170000
LOCATION:Kino Světozor
END:VEVENT
END:VCALENDAR
