BEGIN:VCALENDAR
PRODID:-//eluceo/ical//2.0/EN
VERSION:2.0
CALSCALE:GREGORIAN
BEGIN:VEVENT
UID:7391a23b4ba26c2032b88ef67f641c82
DTSTAMP:20260425T195936Z
SUMMARY:Ďábel nosí Pradu 2
DTSTART;TZID=Europe/Prague:20260501T123000
DTEND;TZID=Europe/Prague:20260501T143000
LOCATION:Kino Světozor
END:VEVENT
END:VCALENDAR
BEGIN:VCALENDAR
PRODID:-//eluceo/ical//2.0/EN
VERSION:2.0
CALSCALE:GREGORIAN
BEGIN:VEVENT
UID:221c076df19000dd1f47e369235b5bf0
DTSTAMP:20260425T195936Z
SUMMARY:Ďábel nosí Pradu 2
DTSTART;TZID=Europe/Prague:20260501T123000
DTEND;TZID=Europe/Prague:20260501T143000
LOCATION:Kino Světozor
END:VEVENT
END:VCALENDAR
