BEGIN:VCALENDAR
PRODID:-//eluceo/ical//2.0/EN
VERSION:2.0
CALSCALE:GREGORIAN
BEGIN:VEVENT
UID:08b567206d88bc81f094b9bae4ec53e5
DTSTAMP:20260425T195935Z
SUMMARY:Ďábel nosí Pradu 2
DTSTART;TZID=Europe/Prague:20260503T123000
DTEND;TZID=Europe/Prague:20260503T143000
LOCATION:Kino Světozor
END:VEVENT
END:VCALENDAR
BEGIN:VCALENDAR
PRODID:-//eluceo/ical//2.0/EN
VERSION:2.0
CALSCALE:GREGORIAN
BEGIN:VEVENT
UID:10ba67181c26e48399f5d54aaf30c72c
DTSTAMP:20260425T195935Z
SUMMARY:Ďábel nosí Pradu 2
DTSTART;TZID=Europe/Prague:20260503T123000
DTEND;TZID=Europe/Prague:20260503T143000
LOCATION:Kino Světozor
END:VEVENT
END:VCALENDAR
