BEGIN:VCALENDAR
PRODID:-//eluceo/ical//2.0/EN
VERSION:2.0
CALSCALE:GREGORIAN
BEGIN:VEVENT
UID:9f1e9ef19a343bcdb7d5496bf942b62b
DTSTAMP:20260425T200049Z
SUMMARY:Ďábel nosí Pradu 2
DTSTART;TZID=Europe/Prague:20260506T150000
DTEND;TZID=Europe/Prague:20260506T170000
LOCATION:Kino Světozor
END:VEVENT
END:VCALENDAR
BEGIN:VCALENDAR
PRODID:-//eluceo/ical//2.0/EN
VERSION:2.0
CALSCALE:GREGORIAN
BEGIN:VEVENT
UID:9e3cd12b2cba5f18d95bac8ba0529ce6
DTSTAMP:20260425T200049Z
SUMMARY:Ďábel nosí Pradu 2
DTSTART;TZID=Europe/Prague:20260506T150000
DTEND;TZID=Europe/Prague:20260506T170000
LOCATION:Kino Světozor
END:VEVENT
END:VCALENDAR
