BEGIN:VCALENDAR
PRODID:-//eluceo/ical//2.0/EN
VERSION:2.0
CALSCALE:GREGORIAN
BEGIN:VEVENT
UID:0990c538c7a3efd82be21c4d36afc99a
DTSTAMP:20260425T200233Z
SUMMARY:Ďábel nosí Pradu 2
DTSTART;TZID=Europe/Prague:20260504T151500
DTEND;TZID=Europe/Prague:20260504T171500
LOCATION:Kino Světozor
END:VEVENT
END:VCALENDAR
BEGIN:VCALENDAR
PRODID:-//eluceo/ical//2.0/EN
VERSION:2.0
CALSCALE:GREGORIAN
BEGIN:VEVENT
UID:17b060a03c590f1b54df9b3f127a55aa
DTSTAMP:20260425T200233Z
SUMMARY:Ďábel nosí Pradu 2
DTSTART;TZID=Europe/Prague:20260504T151500
DTEND;TZID=Europe/Prague:20260504T171500
LOCATION:Kino Světozor
END:VEVENT
END:VCALENDAR
