BEGIN:VCALENDAR
PRODID:-//eluceo/ical//2.0/EN
VERSION:2.0
CALSCALE:GREGORIAN
BEGIN:VEVENT
UID:1ad9f851f0f32cdb532a4eb81f66af58
DTSTAMP:20260425T200757Z
SUMMARY:EPiC: Elvis Presley in Concert
DTSTART;TZID=Europe/Prague:20260504T150000
DTEND;TZID=Europe/Prague:20260504T163600
LOCATION:Bio Oko
END:VEVENT
END:VCALENDAR
BEGIN:VCALENDAR
PRODID:-//eluceo/ical//2.0/EN
VERSION:2.0
CALSCALE:GREGORIAN
BEGIN:VEVENT
UID:cc30345780f269d4d3c33299e8d575aa
DTSTAMP:20260425T200757Z
SUMMARY:EPiC: Elvis Presley in Concert
DTSTART;TZID=Europe/Prague:20260504T150000
DTEND;TZID=Europe/Prague:20260504T163600
LOCATION:Bio Oko
END:VEVENT
END:VCALENDAR
