BEGIN:VCALENDAR
PRODID:-//eluceo/ical//2.0/EN
VERSION:2.0
CALSCALE:GREGORIAN
BEGIN:VEVENT
UID:6f35823b2c13575e5be0ba8dbdbaea40
DTSTAMP:20260425T195547Z
SUMMARY:Bouřlivé výšiny
DTSTART;TZID=Europe/Prague:20260512T130000
DTEND;TZID=Europe/Prague:20260512T151600
LOCATION:Bio Oko
END:VEVENT
END:VCALENDAR
BEGIN:VCALENDAR
PRODID:-//eluceo/ical//2.0/EN
VERSION:2.0
CALSCALE:GREGORIAN
BEGIN:VEVENT
UID:0a13711126058c92ed5d4121f9296e53
DTSTAMP:20260425T195547Z
SUMMARY:Bouřlivé výšiny
DTSTART;TZID=Europe/Prague:20260512T130000
DTEND;TZID=Europe/Prague:20260512T151600
LOCATION:Bio Oko
END:VEVENT
END:VCALENDAR
