BEGIN:VCALENDAR
PRODID:-//eluceo/ical//2.0/EN
VERSION:2.0
CALSCALE:GREGORIAN
BEGIN:VEVENT
UID:c77e902a6032eef735a4722e7a547d24
DTSTAMP:20260425T165927Z
SUMMARY:Šepot lesa
DTSTART;TZID=Europe/Prague:20260514T150000
DTEND;TZID=Europe/Prague:20260514T163500
LOCATION:Bio Oko
END:VEVENT
END:VCALENDAR
BEGIN:VCALENDAR
PRODID:-//eluceo/ical//2.0/EN
VERSION:2.0
CALSCALE:GREGORIAN
BEGIN:VEVENT
UID:ddd8c0cbed130733566e90f786eb4489
DTSTAMP:20260425T165927Z
SUMMARY:Šepot lesa
DTSTART;TZID=Europe/Prague:20260514T150000
DTEND;TZID=Europe/Prague:20260514T163500
LOCATION:Bio Oko
END:VEVENT
END:VCALENDAR
