BEGIN:VCALENDAR
PRODID:-//eluceo/ical//2.0/EN
VERSION:2.0
CALSCALE:GREGORIAN
BEGIN:VEVENT
UID:de1094ee0ffc92b058f626dab699b72a
DTSTAMP:20260425T200049Z
SUMMARY:Ďábel nosí Pradu 2
DTSTART;TZID=Europe/Prague:20260502T201500
DTEND;TZID=Europe/Prague:20260502T221500
LOCATION:Kino Aero
END:VEVENT
END:VCALENDAR
BEGIN:VCALENDAR
PRODID:-//eluceo/ical//2.0/EN
VERSION:2.0
CALSCALE:GREGORIAN
BEGIN:VEVENT
UID:e070ee4ab8b733f86ca70506c2239566
DTSTAMP:20260425T200049Z
SUMMARY:Ďábel nosí Pradu 2
DTSTART;TZID=Europe/Prague:20260502T201500
DTEND;TZID=Europe/Prague:20260502T221500
LOCATION:Kino Aero
END:VEVENT
END:VCALENDAR
